BEGIN:VCALENDAR
VERSION:2.0
PRODID:-//Flinders Village - ECPv6.15.14//NONSGML v1.0//EN
CALSCALE:GREGORIAN
METHOD:PUBLISH
X-WR-CALNAME:Flinders Village
X-ORIGINAL-URL:https://flindersvillage.com.au
X-WR-CALDESC:Events for Flinders Village
REFRESH-INTERVAL;VALUE=DURATION:PT1H
X-Robots-Tag:noindex
X-PUBLISHED-TTL:PT1H
BEGIN:VTIMEZONE
TZID:Australia/Melbourne
BEGIN:STANDARD
TZOFFSETFROM:+1100
TZOFFSETTO:+1000
TZNAME:AEST
DTSTART:20250405T160000
END:STANDARD
BEGIN:DAYLIGHT
TZOFFSETFROM:+1000
TZOFFSETTO:+1100
TZNAME:AEDT
DTSTART:20251004T160000
END:DAYLIGHT
BEGIN:STANDARD
TZOFFSETFROM:+1100
TZOFFSETTO:+1000
TZNAME:AEST
DTSTART:20260404T160000
END:STANDARD
BEGIN:DAYLIGHT
TZOFFSETFROM:+1000
TZOFFSETTO:+1100
TZNAME:AEDT
DTSTART:20261003T160000
END:DAYLIGHT
BEGIN:STANDARD
TZOFFSETFROM:+1100
TZOFFSETTO:+1000
TZNAME:AEST
DTSTART:20270403T160000
END:STANDARD
BEGIN:DAYLIGHT
TZOFFSETFROM:+1000
TZOFFSETTO:+1100
TZNAME:AEDT
DTSTART:20271002T160000
END:DAYLIGHT
END:VTIMEZONE
BEGIN:VEVENT
DTSTART;TZID=Australia/Melbourne:20260208T153000
DTEND;TZID=Australia/Melbourne:20260208T190000
DTSTAMP:20260421T195705
CREATED:20260129T233729Z
LAST-MODIFIED:20260129T233729Z
UID:3848-1770564600-1770577200@flindersvillage.com.au
SUMMARY:Flinders Tennis Court Launch 8 Feb
DESCRIPTION:
URL:https://flindersvillage.com.au/event/flinders-tennis-court-launch-8-feb/
CATEGORIES:Events
END:VEVENT
END:VCALENDAR