BEGIN:VCALENDAR
VERSION:2.0
PRODID:-//Flinders Village - ECPv6.15.14//NONSGML v1.0//EN
CALSCALE:GREGORIAN
METHOD:PUBLISH
X-WR-CALNAME:Flinders Village
X-ORIGINAL-URL:https://flindersvillage.com.au
X-WR-CALDESC:Events for Flinders Village
REFRESH-INTERVAL;VALUE=DURATION:PT1H
X-Robots-Tag:noindex
X-PUBLISHED-TTL:PT1H
BEGIN:VTIMEZONE
TZID:Australia/Melbourne
BEGIN:STANDARD
TZOFFSETFROM:+1100
TZOFFSETTO:+1000
TZNAME:AEST
DTSTART:20250405T160000
END:STANDARD
BEGIN:DAYLIGHT
TZOFFSETFROM:+1000
TZOFFSETTO:+1100
TZNAME:AEDT
DTSTART:20251004T160000
END:DAYLIGHT
BEGIN:STANDARD
TZOFFSETFROM:+1100
TZOFFSETTO:+1000
TZNAME:AEST
DTSTART:20260404T160000
END:STANDARD
BEGIN:DAYLIGHT
TZOFFSETFROM:+1000
TZOFFSETTO:+1100
TZNAME:AEDT
DTSTART:20261003T160000
END:DAYLIGHT
BEGIN:STANDARD
TZOFFSETFROM:+1100
TZOFFSETTO:+1000
TZNAME:AEST
DTSTART:20270403T160000
END:STANDARD
BEGIN:DAYLIGHT
TZOFFSETFROM:+1000
TZOFFSETTO:+1100
TZNAME:AEDT
DTSTART:20271002T160000
END:DAYLIGHT
END:VTIMEZONE
BEGIN:VEVENT
DTSTART;TZID=Australia/Melbourne:20260502T140000
DTEND;TZID=Australia/Melbourne:20260502T160000
DTSTAMP:20260420T131128
CREATED:20260420T020127Z
LAST-MODIFIED:20260420T020154Z
UID:3952-1777730400-1777737600@flindersvillage.com.au
SUMMARY:MAIN CREEK LANDCARE GROUP AGM
DESCRIPTION:
URL:https://flindersvillage.com.au/event/main-creek-landcare-group-agm/
CATEGORIES:Events
END:VEVENT
BEGIN:VEVENT
DTSTART;TZID=Australia/Melbourne:20260516T183000
DTEND;TZID=Australia/Melbourne:20260516T200000
DTSTAMP:20260420T131128
CREATED:20251026T045434Z
LAST-MODIFIED:20260228T235137Z
UID:3625-1778956200-1778961600@flindersvillage.com.au
SUMMARY:FYC Family Trivia Night
DESCRIPTION:$15 per adult\nChildren Under 18 free\nBYO food and drink\n(Soft drink and nibbles provided)
URL:https://flindersvillage.com.au/event/fyc-family-trivia-night/
CATEGORIES:Events
END:VEVENT
BEGIN:VEVENT
DTSTART;TZID=Australia/Melbourne:20260527T103000
DTEND;TZID=Australia/Melbourne:20260527T120000
DTSTAMP:20260420T131128
CREATED:20260420T020621Z
LAST-MODIFIED:20260420T020621Z
UID:3958-1779877800-1779883200@flindersvillage.com.au
SUMMARY:DEMENTIA AUSTRALIA Morning Tea
DESCRIPTION:
URL:https://flindersvillage.com.au/event/dementia-australia-morning-tea/
CATEGORIES:Events
END:VEVENT
END:VCALENDAR